BEGIN:VCALENDAR
VERSION:2.0
PRODID:-//The Skills Center - ECPv6.15.20//NONSGML v1.0//EN
CALSCALE:GREGORIAN
METHOD:PUBLISH
X-ORIGINAL-URL:https://theskillscenter.org
X-WR-CALDESC:Events for The Skills Center
REFRESH-INTERVAL;VALUE=DURATION:PT1H
X-Robots-Tag:noindex
X-PUBLISHED-TTL:PT1H
BEGIN:VTIMEZONE
TZID:America/New_York
BEGIN:DAYLIGHT
TZOFFSETFROM:-0500
TZOFFSETTO:-0400
TZNAME:EDT
DTSTART:20250309T070000
END:DAYLIGHT
BEGIN:STANDARD
TZOFFSETFROM:-0400
TZOFFSETTO:-0500
TZNAME:EST
DTSTART:20251102T060000
END:STANDARD
BEGIN:DAYLIGHT
TZOFFSETFROM:-0500
TZOFFSETTO:-0400
TZNAME:EDT
DTSTART:20260308T070000
END:DAYLIGHT
BEGIN:STANDARD
TZOFFSETFROM:-0400
TZOFFSETTO:-0500
TZNAME:EST
DTSTART:20261101T060000
END:STANDARD
BEGIN:DAYLIGHT
TZOFFSETFROM:-0500
TZOFFSETTO:-0400
TZNAME:EDT
DTSTART:20270314T070000
END:DAYLIGHT
BEGIN:STANDARD
TZOFFSETFROM:-0400
TZOFFSETTO:-0500
TZNAME:EST
DTSTART:20271107T060000
END:STANDARD
END:VTIMEZONE
BEGIN:VEVENT
DTSTART;VALUE=DATE:20260615
DTEND;VALUE=DATE:20260716
DTSTAMP:20260421T140755
CREATED:20260413T223320Z
LAST-MODIFIED:20260413T223320Z
UID:6884-1781481600-1784159999@theskillscenter.org
SUMMARY:Volleyball Camps
DESCRIPTION:Register below to attend this FREE networking social.A cash bar and light bites will be available\, so bring your business cards and get ready to connect with fellow professionals\, executives\, and entrepreneurs. It’s time to bridge the next generation of leaders with today’s executives and business owners—building sustainable relationships that empower growth and create new opportunities. 								\n				\n					\n				\n		\n					\n		\n				\n				\n					\n\n\n\nNextGen and Execs Networking Social\n\n\n\n\n\n\n\n\n	Name\n		*\n	\n	\n	\n		Name	\n\n	\n					\n				\n					First Name				\n\n				First Name			\n						\n				\n					Last Name				\n\n				Last Name			\n				\n\n\n	\n	\n\n\n	Email\n		*\n	\n	\n	\n	\n\n\n	Phone\n		*\n	\n	\n	\n	\n\n\n	Title\n		\n	\n	\n	\n	\n\n\n	Company\n		\n	\n	\n	\n	\n\n\n	Have you visited The Skills Center before?\n		*\n	\n			\n		NoYes	\n	\n	\n	\n\n\n	How did you hear about this event?\n		\n	\n						\n			 The Skills Center\n					\n			 Dash Marketing\n					\n			 Event Sponsor\n					\n			 Social Media\n					\n			 Website\n					\n			 OtherOther\n\n	\n	\n\n\n	\nSubmit\n\n\n\n\n\n	\n			\n			\n				If you are human\, leave this field blank.
URL:https://theskillscenter.org/the-skills-center-volleyball-camp/
LOCATION:The Skills Center\, 5107 N 22nd St.\, Tampa\, FL\, 33610\, United States
CATEGORIES:Volleyball
ATTACH;FMTTYPE=image/png:https://theskillscenter.org/wp-content/uploads/2026/04/Your-paragraph-text-2.png
END:VEVENT
BEGIN:VEVENT
DTSTART;VALUE=DATE:20260619
DTEND;VALUE=DATE:20260801
DTSTAMP:20260421T140756
CREATED:20260413T223114Z
LAST-MODIFIED:20260413T223114Z
UID:6882-1781827200-1785542399@theskillscenter.org
SUMMARY:3v3 Summer Rise League
DESCRIPTION:Register below to attend this FREE networking social.A cash bar and light bites will be available\, so bring your business cards and get ready to connect with fellow professionals\, executives\, and entrepreneurs. It’s time to bridge the next generation of leaders with today’s executives and business owners—building sustainable relationships that empower growth and create new opportunities. 								\n				\n					\n				\n		\n					\n		\n				\n				\n					\n\n\n\nNextGen and Execs Networking Social\n\n\n\n\n\n\n\n\n	Name\n		*\n	\n	\n	\n		Name	\n\n	\n					\n				\n					First Name				\n\n				First Name			\n						\n				\n					Last Name				\n\n				Last Name			\n				\n\n\n	\n	\n\n\n	Email\n		*\n	\n	\n	\n	\n\n\n	Phone\n		*\n	\n	\n	\n	\n\n\n	Title\n		\n	\n	\n	\n	\n\n\n	Company\n		\n	\n	\n	\n	\n\n\n	Have you visited The Skills Center before?\n		*\n	\n			\n		NoYes	\n	\n	\n	\n\n\n	How did you hear about this event?\n		\n	\n						\n			 The Skills Center\n					\n			 Dash Marketing\n					\n			 Event Sponsor\n					\n			 Social Media\n					\n			 Website\n					\n			 OtherOther\n\n	\n	\n\n\n	\nSubmit\n\n\n\n\n\n	\n			\n			\n				If you are human\, leave this field blank.
URL:https://theskillscenter.org/basketball/
LOCATION:The Skills Center\, 5107 N 22nd St.\, Tampa\, FL\, 33610\, United States
CATEGORIES:Basketball Training
ATTACH;FMTTYPE=image/png:https://theskillscenter.org/wp-content/uploads/2026/04/Add-a-little-bit-of-body-text-1.png
END:VEVENT
END:VCALENDAR