BEGIN:VCALENDAR
VERSION:2.0
PRODID:-//The Skills Center - ECPv6.15.20//NONSGML v1.0//EN
CALSCALE:GREGORIAN
METHOD:PUBLISH
X-WR-CALNAME:The Skills Center
X-ORIGINAL-URL:https://theskillscenter.org
X-WR-CALDESC:Events for The Skills Center
REFRESH-INTERVAL;VALUE=DURATION:PT1H
X-Robots-Tag:noindex
X-PUBLISHED-TTL:PT1H
BEGIN:VTIMEZONE
TZID:America/New_York
BEGIN:DAYLIGHT
TZOFFSETFROM:-0500
TZOFFSETTO:-0400
TZNAME:EDT
DTSTART:20230312T070000
END:DAYLIGHT
BEGIN:STANDARD
TZOFFSETFROM:-0400
TZOFFSETTO:-0500
TZNAME:EST
DTSTART:20231105T060000
END:STANDARD
BEGIN:DAYLIGHT
TZOFFSETFROM:-0500
TZOFFSETTO:-0400
TZNAME:EDT
DTSTART:20240310T070000
END:DAYLIGHT
BEGIN:STANDARD
TZOFFSETFROM:-0400
TZOFFSETTO:-0500
TZNAME:EST
DTSTART:20241103T060000
END:STANDARD
BEGIN:DAYLIGHT
TZOFFSETFROM:-0500
TZOFFSETTO:-0400
TZNAME:EDT
DTSTART:20250309T070000
END:DAYLIGHT
BEGIN:STANDARD
TZOFFSETFROM:-0400
TZOFFSETTO:-0500
TZNAME:EST
DTSTART:20251102T060000
END:STANDARD
END:VTIMEZONE
BEGIN:VEVENT
DTSTART;TZID=America/New_York:20240603T090000
DTEND;TZID=America/New_York:20240802T150000
DTSTAMP:20260419T095743
CREATED:20240507T221317Z
LAST-MODIFIED:20240726T175658Z
UID:3643-1717405200-1722610800@theskillscenter.org
SUMMARY:The Collab Summer STEAM Camp
DESCRIPTION:Register below to attend this FREE networking social.A cash bar and light bites will be available\, so bring your business cards and get ready to connect with fellow professionals\, executives\, and entrepreneurs. It’s time to bridge the next generation of leaders with today’s executives and business owners—building sustainable relationships that empower growth and create new opportunities. 								\n				\n					\n				\n		\n					\n		\n				\n				\n					\n\n\n\nNextGen and Execs Networking Social\n\n\n\n\n\n\n\n\n	Name\n		*\n	\n	\n	\n		Name	\n\n	\n					\n				\n					First Name				\n\n				First Name			\n						\n				\n					Last Name				\n\n				Last Name			\n				\n\n\n	\n	\n\n\n	Email\n		*\n	\n	\n	\n	\n\n\n	Phone\n		*\n	\n	\n	\n	\n\n\n	Title\n		\n	\n	\n	\n	\n\n\n	Company\n		\n	\n	\n	\n	\n\n\n	Have you visited The Skills Center before?\n		*\n	\n			\n		NoYes	\n	\n	\n	\n\n\n	How did you hear about this event?\n		\n	\n						\n			 The Skills Center\n					\n			 Dash Marketing\n					\n			 Event Sponsor\n					\n			 Social Media\n					\n			 Website\n					\n			 OtherOther\n\n	\n	\n\n\n	\nSubmit\n\n\n\n\n\n	\n			\n			\n				If you are human\, leave this field blank.
URL:https://theskillscenter.org/tsc-event/the-collab-summer-steam-camp/
LOCATION:The Skills Center\, 5107 N 22nd St.\, Tampa\, FL\, 33610\, United States
ATTACH;FMTTYPE=image/jpeg:https://theskillscenter.org/wp-content/uploads/2024/05/tsc-steam2.jpg
END:VEVENT
BEGIN:VEVENT
DTSTART;TZID=America/New_York:20240603T090000
DTEND;TZID=America/New_York:20240726T150000
DTSTAMP:20260419T095743
CREATED:20240501T203135Z
LAST-MODIFIED:20240501T203622Z
UID:3620-1717405200-1722006000@theskillscenter.org
SUMMARY:Tampa Y.E.S. Girls Program
DESCRIPTION:Register below to attend this FREE networking social.A cash bar and light bites will be available\, so bring your business cards and get ready to connect with fellow professionals\, executives\, and entrepreneurs. It’s time to bridge the next generation of leaders with today’s executives and business owners—building sustainable relationships that empower growth and create new opportunities. 								\n				\n					\n				\n		\n					\n		\n				\n				\n					\n\n\n\nNextGen and Execs Networking Social\n\n\n\n\n\n\n\n\n	Name\n		*\n	\n	\n	\n		Name	\n\n	\n					\n				\n					First Name				\n\n				First Name			\n						\n				\n					Last Name				\n\n				Last Name			\n				\n\n\n	\n	\n\n\n	Email\n		*\n	\n	\n	\n	\n\n\n	Phone\n		*\n	\n	\n	\n	\n\n\n	Title\n		\n	\n	\n	\n	\n\n\n	Company\n		\n	\n	\n	\n	\n\n\n	Have you visited The Skills Center before?\n		*\n	\n			\n		NoYes	\n	\n	\n	\n\n\n	How did you hear about this event?\n		\n	\n						\n			 The Skills Center\n					\n			 Dash Marketing\n					\n			 Event Sponsor\n					\n			 Social Media\n					\n			 Website\n					\n			 OtherOther\n\n	\n	\n\n\n	\nSubmit\n\n\n\n\n\n	\n			\n			\n				If you are human\, leave this field blank.
URL:https://theskillscenter.org/tsc-event/tampa-y-e-s-girls-program/
LOCATION:The Skills Center\, 5107 N 22nd St.\, Tampa\, FL\, 33610\, United States
CATEGORIES:Tampa Y.E.S.
ATTACH;FMTTYPE=image/jpeg:https://theskillscenter.org/wp-content/uploads/2024/01/TSC-Girl-Recruitment-Promo-Untitled-Page-3-scaled.jpeg
END:VEVENT
BEGIN:VEVENT
DTSTART;TZID=America/New_York:20240420T100000
DTEND;TZID=America/New_York:20240420T130000
DTSTAMP:20260419T095743
CREATED:20240404T175500Z
LAST-MODIFIED:20240410T231007Z
UID:2311-1713607200-1713618000@theskillscenter.org
SUMMARY:Free Community Health Fair
DESCRIPTION:Register below to attend this FREE networking social.A cash bar and light bites will be available\, so bring your business cards and get ready to connect with fellow professionals\, executives\, and entrepreneurs. It’s time to bridge the next generation of leaders with today’s executives and business owners—building sustainable relationships that empower growth and create new opportunities. 								\n				\n					\n				\n		\n					\n		\n				\n				\n					\n\n\n\nNextGen and Execs Networking Social\n\n\n\n\n\n\n\n\n	Name\n		*\n	\n	\n	\n		Name	\n\n	\n					\n				\n					First Name				\n\n				First Name			\n						\n				\n					Last Name				\n\n				Last Name			\n				\n\n\n	\n	\n\n\n	Email\n		*\n	\n	\n	\n	\n\n\n	Phone\n		*\n	\n	\n	\n	\n\n\n	Title\n		\n	\n	\n	\n	\n\n\n	Company\n		\n	\n	\n	\n	\n\n\n	Have you visited The Skills Center before?\n		*\n	\n			\n		NoYes	\n	\n	\n	\n\n\n	How did you hear about this event?\n		\n	\n						\n			 The Skills Center\n					\n			 Dash Marketing\n					\n			 Event Sponsor\n					\n			 Social Media\n					\n			 Website\n					\n			 OtherOther\n\n	\n	\n\n\n	\nSubmit\n\n\n\n\n\n	\n			\n			\n				If you are human\, leave this field blank.
URL:https://theskillscenter.org/tsc-event/free-community-health-fair/
LOCATION:The Skills Center\, 5107 N 22nd St.\, Tampa\, FL\, 33610\, United States
CATEGORIES:Community Events
ATTACH;FMTTYPE=image/jpeg:https://theskillscenter.org/wp-content/uploads/2024/04/TBB-Health-Fair-Flyer-3.jpg
END:VEVENT
END:VCALENDAR