BEGIN:VCALENDAR
VERSION:2.0
PRODID:-//The Skills Center - ECPv6.15.20//NONSGML v1.0//EN
CALSCALE:GREGORIAN
METHOD:PUBLISH
X-WR-CALNAME:The Skills Center
X-ORIGINAL-URL:https://theskillscenter.org
X-WR-CALDESC:Events for The Skills Center
REFRESH-INTERVAL;VALUE=DURATION:PT1H
X-Robots-Tag:noindex
X-PUBLISHED-TTL:PT1H
BEGIN:VTIMEZONE
TZID:America/New_York
BEGIN:DAYLIGHT
TZOFFSETFROM:-0500
TZOFFSETTO:-0400
TZNAME:EDT
DTSTART:20240310T070000
END:DAYLIGHT
BEGIN:STANDARD
TZOFFSETFROM:-0400
TZOFFSETTO:-0500
TZNAME:EST
DTSTART:20241103T060000
END:STANDARD
BEGIN:DAYLIGHT
TZOFFSETFROM:-0500
TZOFFSETTO:-0400
TZNAME:EDT
DTSTART:20250309T070000
END:DAYLIGHT
BEGIN:STANDARD
TZOFFSETFROM:-0400
TZOFFSETTO:-0500
TZNAME:EST
DTSTART:20251102T060000
END:STANDARD
BEGIN:DAYLIGHT
TZOFFSETFROM:-0500
TZOFFSETTO:-0400
TZNAME:EDT
DTSTART:20260308T070000
END:DAYLIGHT
BEGIN:STANDARD
TZOFFSETFROM:-0400
TZOFFSETTO:-0500
TZNAME:EST
DTSTART:20261101T060000
END:STANDARD
END:VTIMEZONE
BEGIN:VEVENT
DTSTART;TZID=America/New_York:20250828T080000
DTEND;TZID=America/New_York:20250828T170000
DTSTAMP:20260421T070134
CREATED:20250828T205033Z
LAST-MODIFIED:20250828T205145Z
UID:6246-1756368000-1756400400@theskillscenter.org
SUMMARY:Cybersecurity Training  (FREE) - 8th-12th Grade
DESCRIPTION:
URL:https://theskillscenter.org/cybersecurity/
LOCATION:The Skills Center\, 5107 N 22nd St.\, Tampa\, FL\, 33610\, United States
CATEGORIES:Education
ATTACH;FMTTYPE=image/png:https://theskillscenter.org/wp-content/uploads/2025/08/Blue-And-White-Illustrative-Illustrated-Cybercrime-Awareness-Poster.png
END:VEVENT
END:VCALENDAR