BEGIN:VCALENDAR
VERSION:2.0
PRODID:-//The Skills Center - ECPv6.15.20//NONSGML v1.0//EN
CALSCALE:GREGORIAN
METHOD:PUBLISH
X-ORIGINAL-URL:https://theskillscenter.org
X-WR-CALDESC:Events for The Skills Center
REFRESH-INTERVAL;VALUE=DURATION:PT1H
X-Robots-Tag:noindex
X-PUBLISHED-TTL:PT1H
BEGIN:VTIMEZONE
TZID:America/New_York
BEGIN:DAYLIGHT
TZOFFSETFROM:-0500
TZOFFSETTO:-0400
TZNAME:EDT
DTSTART:20230312T070000
END:DAYLIGHT
BEGIN:STANDARD
TZOFFSETFROM:-0400
TZOFFSETTO:-0500
TZNAME:EST
DTSTART:20231105T060000
END:STANDARD
BEGIN:DAYLIGHT
TZOFFSETFROM:-0500
TZOFFSETTO:-0400
TZNAME:EDT
DTSTART:20240310T070000
END:DAYLIGHT
BEGIN:STANDARD
TZOFFSETFROM:-0400
TZOFFSETTO:-0500
TZNAME:EST
DTSTART:20241103T060000
END:STANDARD
BEGIN:DAYLIGHT
TZOFFSETFROM:-0500
TZOFFSETTO:-0400
TZNAME:EDT
DTSTART:20250309T070000
END:DAYLIGHT
BEGIN:STANDARD
TZOFFSETFROM:-0400
TZOFFSETTO:-0500
TZNAME:EST
DTSTART:20251102T060000
END:STANDARD
END:VTIMEZONE
BEGIN:VEVENT
DTSTART;VALUE=DATE:20240930
DTEND;VALUE=DATE:20241001
DTSTAMP:20260421T200522
CREATED:20240605T142625Z
LAST-MODIFIED:20240625T151514Z
UID:4035-1727654400-1727740799@theskillscenter.org
SUMMARY:Inaugural Golf Tournament
DESCRIPTION:
URL:https://theskillscenter.org/golftournament/
LOCATION:Tampa Palms Golf & Country Club\, 5811 Tampa Palms Blvd.\, Tampa\, FL\, 33647\, United States
CATEGORIES:Golf Tournament
ATTACH;FMTTYPE=image/png:https://theskillscenter.org/wp-content/uploads/2024/06/magazine-29.png
END:VEVENT
END:VCALENDAR